BEGIN:VCALENDAR
PRODID:-//kirchenweb.ch gmbh//veranstaltungsausgabe v2.0//DE
VERSION:2.0
METHOD:PUBLISH
BEGIN:VEVENT
DTSTART:20260410T081500Z
DTEND:20260410T091500Z
LOCATION:Heim Breitlen\, Obstgartenstrasse 2\, 8634 Hombrechtikon
TRANSP:OPAQUE
SEQUENCE:0
UID:3692-veranstaltung@pfarreistniklaus.ch
DTSTAMP:20251110T133828Z
DESCRIPTION:Kontakt: Antonius Gerarts\n\nWeitere Infos:
  https://www.pfarreistniklaus.ch/veranstaltung/3692
SUMMARY:Andacht im Alterszentrum Breitlen
PRIORITY:5
X-MICROSOFT-CDO-IMPORTANCE:1
CLASS:PUBLIC
END:VEVENT
END:VCALENDAR
