BEGIN:VCALENDAR
PRODID:-//kirchenweb.ch gmbh//veranstaltungsausgabe v2.0//DE
VERSION:2.0
METHOD:PUBLISH
BEGIN:VEVENT
DTSTART:20260427T180000Z
DTEND:20260427T190000Z
LOCATION:Katholische Kirche\, Bahnhöfliplatz\, 8634 Hombrechtikon
TRANSP:OPAQUE
SEQUENCE:0
UID:3422-veranstaltung@pfarreistniklaus.ch
DTSTAMP:20250915T122017Z
DESCRIPTION:Kontakt: livia.dressler@pfarreistniklaus.ch\n\nWeitere Infos:
  https://www.pfarreistniklaus.ch/veranstaltung/3422
SUMMARY:Rosenkranzgebet der Missione Cattolica di Lingua Italiana
PRIORITY:5
X-MICROSOFT-CDO-IMPORTANCE:1
CLASS:PUBLIC
END:VEVENT
END:VCALENDAR
