BEGIN:VCALENDAR
PRODID:-//kirchenweb.ch gmbh//veranstaltungsausgabe v2.0//DE
VERSION:2.0
METHOD:PUBLISH
BEGIN:VEVENT
DTSTART:20250625T073000Z
DTEND:20250625T083000Z
LOCATION:kath. Kirche\, Bahnhöfliplatz\, 8634 Hombrechtikon
TRANSP:OPAQUE
SEQUENCE:0
UID:3209-veranstaltung@pfarreistniklaus.ch
DTSTAMP:20250317T154049Z
DESCRIPTION:Kontakt: livia.dressler@pfarreistniklaus.ch\n\nWeitere Infos:
  https://www.pfarreistniklaus.ch/veranstaltung/3209
SUMMARY:Frauen-Gottesdienst
PRIORITY:5
X-MICROSOFT-CDO-IMPORTANCE:1
CLASS:PUBLIC
END:VEVENT
END:VCALENDAR
